BEGIN:VCALENDAR
VERSION:2.0
PRODID:-//Constant Systems - ECPv6.15.20//NONSGML v1.0//EN
CALSCALE:GREGORIAN
METHOD:PUBLISH
X-WR-CALNAME:Constant Systems
X-ORIGINAL-URL:https://constantsystems.com
X-WR-CALDESC:Events for Constant Systems
REFRESH-INTERVAL;VALUE=DURATION:PT1H
X-Robots-Tag:noindex
X-PUBLISHED-TTL:PT1H
BEGIN:VTIMEZONE
TZID:Europe/London
BEGIN:DAYLIGHT
TZOFFSETFROM:+0000
TZOFFSETTO:+0100
TZNAME:BST
DTSTART:20240331T010000
END:DAYLIGHT
BEGIN:STANDARD
TZOFFSETFROM:+0100
TZOFFSETTO:+0000
TZNAME:GMT
DTSTART:20241027T010000
END:STANDARD
BEGIN:DAYLIGHT
TZOFFSETFROM:+0000
TZOFFSETTO:+0100
TZNAME:BST
DTSTART:20250330T010000
END:DAYLIGHT
BEGIN:STANDARD
TZOFFSETFROM:+0100
TZOFFSETTO:+0000
TZNAME:GMT
DTSTART:20251026T010000
END:STANDARD
BEGIN:DAYLIGHT
TZOFFSETFROM:+0000
TZOFFSETTO:+0100
TZNAME:BST
DTSTART:20260329T010000
END:DAYLIGHT
BEGIN:STANDARD
TZOFFSETFROM:+0100
TZOFFSETTO:+0000
TZNAME:GMT
DTSTART:20261025T010000
END:STANDARD
END:VTIMEZONE
BEGIN:VEVENT
DTSTART;TZID=Europe/London:20250409T170000
DTEND;TZID=Europe/London:20250411T153000
DTSTAMP:20260423T133129
CREATED:20250317T131013Z
LAST-MODIFIED:20250403T131816Z
UID:251486-1744218000-1744385400@constantsystems.com
SUMMARY:MIFFI – Copenhagen
DESCRIPTION:We are pleased to announce that the 4th he International Conference on Microbial Food and Feed Ingredients (MiFFI) taking place in Copenhagen\, Denmark 9-11 April 2025.\nThe International Conference on Microbial Food and Feed Ingredients (MiFFI) aims at binding together academia\, industry and the regulatory levels to share scientific results\, discuss current developments\, push the regulatory agenda and foster the microbial food and feed ingredients community.\nWe look forward to welcoming you to Copenhagen! \nProgramme topics\nPrecision fermentation for production of food ingredients\nMachine learning for stream-lined development of fermented food products\nThe microbiome of production animals\nFermented foods\nNovel food regulations \nSchedule:\nWednesday 9th April 2025 17:00 – 20:00\nThursday 10th April 2025 08:30 – 17:00\nFriday 11th April 2025 09:00 – 15:25\nAttendees:\nRiaan Fox
URL:https://constantsystems.com/event/miffi-copenhagen/
LOCATION:Marmorhallen\,; Frederiksberg Campus
ATTACH;FMTTYPE=image/jpeg:https://constantsystems.com/wp-content/uploads/2025/03/MIFFI-–-Copenhagen.jpg
END:VEVENT
END:VCALENDAR