BEGIN:VCALENDAR
VERSION:2.0
PRODID:-//Constant Systems - ECPv6.15.20//NONSGML v1.0//EN
CALSCALE:GREGORIAN
METHOD:PUBLISH
X-ORIGINAL-URL:https://constantsystems.com
X-WR-CALDESC:Events for Constant Systems
REFRESH-INTERVAL;VALUE=DURATION:PT1H
X-Robots-Tag:noindex
X-PUBLISHED-TTL:PT1H
BEGIN:VTIMEZONE
TZID:Europe/London
BEGIN:DAYLIGHT
TZOFFSETFROM:+0000
TZOFFSETTO:+0100
TZNAME:BST
DTSTART:20240331T010000
END:DAYLIGHT
BEGIN:STANDARD
TZOFFSETFROM:+0100
TZOFFSETTO:+0000
TZNAME:GMT
DTSTART:20241027T010000
END:STANDARD
BEGIN:DAYLIGHT
TZOFFSETFROM:+0000
TZOFFSETTO:+0100
TZNAME:BST
DTSTART:20250330T010000
END:DAYLIGHT
BEGIN:STANDARD
TZOFFSETFROM:+0100
TZOFFSETTO:+0000
TZNAME:GMT
DTSTART:20251026T010000
END:STANDARD
BEGIN:DAYLIGHT
TZOFFSETFROM:+0000
TZOFFSETTO:+0100
TZNAME:BST
DTSTART:20260329T010000
END:DAYLIGHT
BEGIN:STANDARD
TZOFFSETFROM:+0100
TZOFFSETTO:+0000
TZNAME:GMT
DTSTART:20261025T010000
END:STANDARD
END:VTIMEZONE
BEGIN:VEVENT
DTSTART;TZID=Europe/London:20250414T090000
DTEND;TZID=Europe/London:20250416T150000
DTSTAMP:20260423T133451
CREATED:20250317T131013Z
LAST-MODIFIED:20250403T130534Z
UID:251488-1744621200-1744815600@constantsystems.com
SUMMARY:6th UK Workshop on Membrane Proteins
DESCRIPTION:The 6th UK Workshop on Membrane Proteins training event will focus on the function of biological membranes and the biophysical techniques available to study their components in the context of biology and biotechnology. This event will comprise lectures\, workshops and laboratory-based practical sessions. \nKey learning objectives \nTo understand the basics of membrane protein purification using cutting edge methods. To be able to describe the principles and applications of biophysical approaches to studying membrane proteins. To be able to undertake practical activities to understand membrane proteins. Attendees should have a basic grasp of membrane protein structure and function and protein biochemistry more widely. No particular practical experience is required\, although some lab experience would be beneficial. The practical elements will focus on the use of polymers to extract membrane proteins without the need for classical detergents \nSchedule: Monday 14th April 2025 09:00 – 17:00 Tuesday 15th April 2025 09:00 – 17:00 Wednesday 16th April 2025 09:00 – 15:00 \nAttendees: Riaan Fox
URL:https://constantsystems.com/event/6th-uk-workshop-on-membrane-proteins/
LOCATION:Aston University (Aston Triangle\, Birmingham\, West Midlands\, B4 7ET)
ATTACH;FMTTYPE=image/jpeg:https://constantsystems.com/wp-content/uploads/2025/03/6th-UK-Workshop-on-Membrane-Proteins.jpg
END:VEVENT
END:VCALENDAR