BEGIN:VCALENDAR
VERSION:2.0
PRODID:-//Constant Systems - ECPv6.15.15//NONSGML v1.0//EN
CALSCALE:GREGORIAN
METHOD:PUBLISH
X-ORIGINAL-URL:https://constantsystems.com
X-WR-CALDESC:Events for Constant Systems
REFRESH-INTERVAL;VALUE=DURATION:PT1H
X-Robots-Tag:noindex
X-PUBLISHED-TTL:PT1H
BEGIN:VTIMEZONE
TZID:Europe/London
BEGIN:DAYLIGHT
TZOFFSETFROM:+0000
TZOFFSETTO:+0100
TZNAME:BST
DTSTART:20240331T010000
END:DAYLIGHT
BEGIN:STANDARD
TZOFFSETFROM:+0100
TZOFFSETTO:+0000
TZNAME:GMT
DTSTART:20241027T010000
END:STANDARD
BEGIN:DAYLIGHT
TZOFFSETFROM:+0000
TZOFFSETTO:+0100
TZNAME:BST
DTSTART:20250330T010000
END:DAYLIGHT
BEGIN:STANDARD
TZOFFSETFROM:+0100
TZOFFSETTO:+0000
TZNAME:GMT
DTSTART:20251026T010000
END:STANDARD
BEGIN:DAYLIGHT
TZOFFSETFROM:+0000
TZOFFSETTO:+0100
TZNAME:BST
DTSTART:20260329T010000
END:DAYLIGHT
BEGIN:STANDARD
TZOFFSETFROM:+0100
TZOFFSETTO:+0000
TZNAME:GMT
DTSTART:20261025T010000
END:STANDARD
END:VTIMEZONE
BEGIN:VEVENT
DTSTART;TZID=Europe/London:20250512T080000
DTEND;TZID=Europe/London:20250516T120000
DTSTAMP:20260422T102209
CREATED:20250317T131013Z
LAST-MODIFIED:20250403T122309Z
UID:251490-1747036800-1747396800@constantsystems.com
SUMMARY:PEGS – Boston
DESCRIPTION:The 2025 PEGS Boston Summit is gearing up to top its past successes\, keeping its spot as the go-to event for biologics and protein engineering. It’s where experts\, innovators\, and global leaders convene to share and connect!\nHear from some of the most influential and thought-provoking speakers in the industry.\n350 leading researchers and thought leaders will share innovative presentations and case studies\, lead panel discussions and moderate interactive breakout discussions.\nSponsored talks led by leading technology and service providers will showcase cutting-edge technologies and new offerings.\nGain insight into emerging strategies\, the latest innovative technologies\, and best practices to advance your research to the next level.\n20 conference programs and Training Seminars provide in-depth coverage of protein & antibody engineering\, bispecific antibody development\, characterization of biologics\, protein expression platforms\, AI/ML-driven biologics research.\nInteractive breakout sessions offer facilitated\, small-group discussions.\nRegistration options allow you to customize an educational and networking agenda to suit your schedule and research goals.\nConnect with global thought leaders\, collaborate with your peers and build your network. \nSchedule:\nMonday 12th May 2025 08:00 – 18:00\nTuesday 13th May 2025 08:00 – 18:00\nWednesday 14th May 2025 08:00 – 18:00\nThursday 15th May 2025 08:00 – 18:00\nFriday 16th May 2025 08:00 – 12:00\nAttendees:\nJay Champaneri
URL:https://constantsystems.com/event/pegs-boston/
LOCATION:Omni Boston Hotel at the Seaport (450 Summer Street\, Boston\, MA  02210\, United States)
ATTACH;FMTTYPE=image/jpeg:https://constantsystems.com/wp-content/uploads/2025/03/PEGS-–-Boston.jpg
END:VEVENT
END:VCALENDAR